BEGIN:VCALENDAR
VERSION:2.0
PRODID:-//Apex Virtual Education - ECPv6.15.18//NONSGML v1.0//EN
CALSCALE:GREGORIAN
METHOD:PUBLISH
X-WR-CALNAME:Apex Virtual Education
X-ORIGINAL-URL:https://www.apexvirtualeducation.com
X-WR-CALDESC:Events for Apex Virtual Education
REFRESH-INTERVAL;VALUE=DURATION:PT1H
X-Robots-Tag:noindex
X-PUBLISHED-TTL:PT1H
BEGIN:VTIMEZONE
TZID:Europe/London
BEGIN:DAYLIGHT
TZOFFSETFROM:+0000
TZOFFSETTO:+0100
TZNAME:BST
DTSTART:20250330T010000
END:DAYLIGHT
BEGIN:STANDARD
TZOFFSETFROM:+0100
TZOFFSETTO:+0000
TZNAME:GMT
DTSTART:20251026T010000
END:STANDARD
BEGIN:DAYLIGHT
TZOFFSETFROM:+0000
TZOFFSETTO:+0100
TZNAME:BST
DTSTART:20260329T010000
END:DAYLIGHT
BEGIN:STANDARD
TZOFFSETFROM:+0100
TZOFFSETTO:+0000
TZNAME:GMT
DTSTART:20261025T010000
END:STANDARD
BEGIN:DAYLIGHT
TZOFFSETFROM:+0000
TZOFFSETTO:+0100
TZNAME:BST
DTSTART:20270328T010000
END:DAYLIGHT
BEGIN:STANDARD
TZOFFSETFROM:+0100
TZOFFSETTO:+0000
TZNAME:GMT
DTSTART:20271031T010000
END:STANDARD
END:VTIMEZONE
BEGIN:VEVENT
DTSTART;TZID=Europe/London:20260211T120000
DTEND;TZID=Europe/London:20260211T133000
DTSTAMP:20260420T113137
CREATED:20251016T110454Z
LAST-MODIFIED:20251016T110454Z
UID:35137-1770811200-1770816600@www.apexvirtualeducation.com
SUMMARY:Career Confidence Series
DESCRIPTION:For Northern Academy members who want to develop themselves and be better leaders\, personally and or their teams \n  \n\n\n\n\n\nPLEASE NOTE this is for HPMA members only \nThis session is for those in People Profession roles \nFinding your voice as a new leader: developing confidence and self-esteem – 19th Nov 2025 \nIn this workshop delegates are invited to explore how knowing their values\, strengths and purpose can help them connect with their new role as a leader\, and how to find out what they are. \nWe look at how we might inadvertently downplay the importance of our voices\, and what strategies delegates can try to find a way to get their voice in the room with confidence. \n—————————————————————————————————- \nMaking brave choices – 11th Feb 2026 \nIt’s a riff on a classic question\, but it’s a great one – what would you do EVEN IF you might fail? \nFor anyone who’s wished they were a little bolder\, braver or more adventurous in their life (whatever that looks like for you)\, this Quiet the Hive masterclass explores what gets in the way of stepping out of our comfort zone\, how you can get comfortable with being uncomfortable\, and gives you time to explore what steps you are going to take towards releasing your inner bravery. \nPrework – none \nFacilitator \nJane Galloway is Founder and Director of Quiet the Hive\, working to help women identify a life they love and arm them with the toolkit and confidence to go get it. \nThrough her work as an award winning coach\, speaker and facilitator\, she helps women to play bigger\, make brave choices and step into their potential so that they live a life they love with a sense of purpose and fulfillment. \nJane is a lover of costume jewellery\, a recovering runner\, thinks that chocolate and peanut butter absolutely go together\, a stationery addict and would always rather be by the sea (preferably bobbing). She is a Mum to two hilarious boys and lives near a wood in Surrey. \nInstagram: https://www.instagram.com/quiet_the_hive \nFacebook: https://www.facebook.com/quietthehive \nLinkedin: https://www.linkedin.com/in/janegalloway \nWebsite: https://www.quietthehive.com \nDate: Please book onto each session you would like to attend \nTime: All sessions open at 11.50 for a prompt 12.00 start – 13.30 close \nBy booking on this event\, you are indicating that have read and agree to our event booking terms and conditions. \nIn the event that you’re not able to attend\, please let us know within 5 working days of the event so that we might fill your place in the event. Place are limited and non-attendance prevents other colleagues from gaining from this opportunity. \nWe may take pictures or record our events to use in publicising our events programme including on our social media platforms. By booking on this event\, you are giving consent to this unless you let us know otherwise. Any questions\, please email ev********@******rg.uk in advance of the event.
URL:https://www.apexvirtualeducation.com/event/career-confidence-series/
LOCATION:Online/Virtual
CATEGORIES:Career
ATTACH;FMTTYPE=image/jpeg:https://www.apexvirtualeducation.com/wp-content/uploads/2025/10/https___cdn.evbuc_.com_images_1003785213_2633069395231_1_original.jpg
END:VEVENT
BEGIN:VEVENT
DTSTART;TZID=Europe/London:20260228T090000
DTEND;TZID=Europe/London:20260228T103000
DTSTAMP:20260420T113137
CREATED:20260202T114726Z
LAST-MODIFIED:20260202T120830Z
UID:36947-1772269200-1772274600@www.apexvirtualeducation.com
SUMMARY:Human Psychology
DESCRIPTION:Overview\n\n\n\n\n\nHuman psychology course: Learn biological basis\, cognition\, emotion\, development & disorders. CPD-accredited psychology training online now\n\n\n\nJoin Our Human Psychology Course Online!\nUnderstanding human psychology unlocks insights into behavior\, cognition\, and mental processes. This human psychology course provides comprehensive training in biological foundations\, cognitive processes\, emotional development\, and psychological disorders for understanding human nature. \nThe Human Psychology program explores biological basis of behavior\, sensation\, perception\, and learning fundamentals. You’ll master memory processes\, emotion\, motivation\, and developmental psychology. This psychology training online covers social psychology\, personality theories\, and abnormal psychology comprehensively. \nAfter completing this psychology certification\, you’ll understand psychological disorders and therapeutic interventions. This behavioral psychology diploma equips learners to analyze human behavior scientifically and apply psychological principles practically. \nThe psychology fundamentals course provides essential knowledge of how humans think\, feel\, behave\, and develop across the lifespan for personal and professional growth. \nWhat You Will Learn \nBy completing this human psychology course\, you will: \n\nUnderstand psychology introduction and foundational concepts\nLearn biological basis of behavior thoroughly\nMaster sensation and perception processes\nUnderstand learning and memory mechanisms\nStudy emotion and motivation principles\nExplore developmental psychology across lifespan\nAnalyze social psychology and interpersonal dynamics\nExamine personality and abnormal psychology\nUnderstand psychological disorders and therapy approaches\n\nWho is this Course for? \nAnyone interested in understanding human behavior needs this human psychology course. It suits counselors\, educators\, healthcare workers\, and students. People pursuing psychology careers or personal development should take this psychology training online. \nEntry Requirements \nThis psychology certification welcomes all learners. No previous psychology knowledge required. Interest in human behavior essential. The behavioral psychology diploma suits curious\, analytically-minded individuals. \nCareer Path \nThis psychology fundamentals course supports careers in: \n\nPsychology Assistant\nMental Health Support Worker\nCounselor\nResearch Assistant\nSocial Worker\nEducational Psychologist Assistant\nHR Professional\nBehavioral Analyst\n\nTopics Covered in This Course \nThis human behavior training covers: \n\nModule 01: Introduction to Psychology (21 mins)\nModule 02: Biological Basis of Behaviour (15 mins)\nModule 03: Sensation and Perception (20 mins)\nModule 04: Learning and Memory (15 mins)\nModule 05: Emotion and Motivation (13 mins)\nModule 06: Developmental Psychology (20 mins)\nModule 07: Social Psychology (14 mins)\nModule 08: Personality and Abnormal Psychology (14 mins)\nModule 09: Psychological Disorders and Therapy\n\nWhy You Should Take This Course Online? \nMaster human psychology course thoroughly Complete psychology training online successfully Earn psychology certification credentials Study behavioral psychology diploma flexibly Learn psychology fundamentals course comprehensively Access human behavior training conveniently Understand human nature scientifically. \n\n\nRegister Here 
URL:https://www.apexvirtualeducation.com/event/human-psychology/
LOCATION:Online/Virtual
CATEGORIES:Social Science
ATTACH;FMTTYPE=image/jpeg:https://www.apexvirtualeducation.com/wp-content/uploads/2026/02/Human-Psychology-Event.jpg
END:VEVENT
END:VCALENDAR