BEGIN:VCALENDAR
VERSION:2.0
PRODID:-//Apex Virtual Education - ECPv6.15.18//NONSGML v1.0//EN
CALSCALE:GREGORIAN
METHOD:PUBLISH
X-ORIGINAL-URL:https://www.apexvirtualeducation.com
X-WR-CALDESC:Events for Apex Virtual Education
REFRESH-INTERVAL;VALUE=DURATION:PT1H
X-Robots-Tag:noindex
X-PUBLISHED-TTL:PT1H
BEGIN:VTIMEZONE
TZID:Europe/London
BEGIN:DAYLIGHT
TZOFFSETFROM:+0000
TZOFFSETTO:+0100
TZNAME:BST
DTSTART:20250330T010000
END:DAYLIGHT
BEGIN:STANDARD
TZOFFSETFROM:+0100
TZOFFSETTO:+0000
TZNAME:GMT
DTSTART:20251026T010000
END:STANDARD
BEGIN:DAYLIGHT
TZOFFSETFROM:+0000
TZOFFSETTO:+0100
TZNAME:BST
DTSTART:20260329T010000
END:DAYLIGHT
BEGIN:STANDARD
TZOFFSETFROM:+0100
TZOFFSETTO:+0000
TZNAME:GMT
DTSTART:20261025T010000
END:STANDARD
BEGIN:DAYLIGHT
TZOFFSETFROM:+0000
TZOFFSETTO:+0100
TZNAME:BST
DTSTART:20270328T010000
END:DAYLIGHT
BEGIN:STANDARD
TZOFFSETFROM:+0100
TZOFFSETTO:+0000
TZNAME:GMT
DTSTART:20271031T010000
END:STANDARD
END:VTIMEZONE
BEGIN:VEVENT
DTSTART;TZID=Europe/London:20260326T130000
DTEND;TZID=Europe/London:20260523T143000
DTSTAMP:20260420T133206
CREATED:20260202T120620Z
LAST-MODIFIED:20260202T120620Z
UID:36953-1774530000-1779546600@www.apexvirtualeducation.com
SUMMARY:Trial Study M.Sc. Digital Business Management
DESCRIPTION:Overview\n\n\n\n\n\nOne-month trial study programme at the HfWU Digital Business School.\n\n\n\nWe offer the opportunity to get to know the Master of Science in Digital Business Management at the International Digital Business School of the HfWU in Germany for one month without obligation and free of charge. You can take part in the first four lecture weekends of the first semester. \nThe lecture schedule and other relevant information will be sent by e-mail as soon as possible after registration. The lectures all take place online. \n\n\nRegister Here 
URL:https://www.apexvirtualeducation.com/event/trial-study-m-sc-digital-business-management/
LOCATION:Online/Virtual
CATEGORIES:Business
ATTACH;FMTTYPE=image/jpeg:https://www.apexvirtualeducation.com/wp-content/uploads/2026/02/Trial-Study-M.Sc_.-Digital-Business-Management.jpg
END:VEVENT
BEGIN:VEVENT
DTSTART;TZID=Europe/London:20260331T180000
DTEND;TZID=Europe/London:20260331T200000
DTSTAMP:20260420T133206
CREATED:20260202T131112Z
LAST-MODIFIED:20260202T131112Z
UID:36973-1774980000-1774987200@www.apexvirtualeducation.com
SUMMARY:Microsoft Office & Excel Skills Training
DESCRIPTION:Overview\n\n\n\n\n\nBoost your productivity with our fun\, interactive online Microsoft Office & Excel skills training session!\n\n\n\nJoin Our Microsoft Office & Excel Skills Training!\nReady to boost your productivity? Jump into this online training where you’ll get hands-on with Microsoft Office and master powerful Excel skills. Whether you’re a beginner or just want to sharpen your tools\, this session’s got you covered. Learn tips\, tricks\, and shortcuts to make your work easier. Don’t miss out on this chance to up your game from the comfort of your home! \n\nRegister Here
URL:https://www.apexvirtualeducation.com/event/microsoft-office-excel-skills-training/
LOCATION:Online/Virtual
ATTACH;FMTTYPE=image/jpeg:https://www.apexvirtualeducation.com/wp-content/uploads/2026/02/Microsoft-Office-Excel-Skills-Training.jpg
END:VEVENT
BEGIN:VEVENT
DTSTART;TZID=Europe/London:20260406T180000
DTEND;TZID=Europe/London:20260406T200000
DTSTAMP:20260420T133206
CREATED:20260202T123823Z
LAST-MODIFIED:20260202T123823Z
UID:36965-1775498400-1775505600@www.apexvirtualeducation.com
SUMMARY:Internal Audit Skills Training
DESCRIPTION:Overview\n\n\n\n\n\nBoost your audit game with practical skills in this fun\, live online training session!\n\n\n\nInternal Audit Skills Training\nJoin our online session to boost your internal audit skills! Perfect for anyone looking to sharpen their audit techniques and get practical tips in a friendly\, interactive setting. Don’t miss this chance to learn\, ask questions\, and level up your game without leaving your home. Grab your spot and get ready to dive into the world of internal auditing! \n\nRegister Here 
URL:https://www.apexvirtualeducation.com/event/internal-audit-skills-training/
LOCATION:Online/Virtual
CATEGORIES:Business,Finance
ATTACH;FMTTYPE=image/jpeg:https://www.apexvirtualeducation.com/wp-content/uploads/2026/02/Internal-Audit-Skills-Training.jpg
END:VEVENT
BEGIN:VEVENT
DTSTART;TZID=Europe/London:20260414T180000
DTEND;TZID=Europe/London:20260414T200000
DTSTAMP:20260420T133206
CREATED:20260202T130243Z
LAST-MODIFIED:20260202T130243Z
UID:36969-1776189600-1776196800@www.apexvirtualeducation.com
SUMMARY:Risk Assessment Skills Training
DESCRIPTION:Overview\n\n\n\n\n\nLearn how to identify and manage risks effectively in our Risk Assessment Skills Training online event!\n\n\n\nCourse Overview\nWhether you are an employee or an employer\, it is important to learn how to create a safe workplace. Building a risk-free work environment will not only protect the people but also help in creating a productive workforce. However\, to create a risk-free workplace\, you must first learn how to assess the risks. That is where our Risk Assessment Skills Training comes in. \nThis course is focused on helping you understand the fundamentals of risk assessment. The highly engaging and bit-sized modules will educate you on the five steps of the risk management process. Then you will learn the skills required for assessing the potential risks in the workplace. The course will also include detailed lessons on the risk assessment toolkit and show you how to utilise it properly. \nEnrol in the Risk Assessment Skills Trainingcourse and get a step closer to creating a safe and healthy workplace. \nBonus Features Included:\n\nFree Transcript\nFree CPD Accredited PDF Certificate\nFREE Course: IT: Health and Safety Training for Managers and Supervisors\nFREE Course: Food Hygiene\, Health and Safety Course\n\n\nLearning Outcomes\n\nLearn the basic principles of risk assessment and its significance in ensuring workplace safety.\nFamiliarise yourself with the five essential steps of the risk management process.\nBuild your competence in identifying the sources of potential risks\nGain a deeper understanding of the risk assessment toolkit\n\n\nWhy Should Take This Course From John Academy?\n\nAffordable\, well-structured and high-quality e-learning study materials\nEngaging tutorial videos\, materials from the industry-leading experts\nOpportunity to study in a user-friendly\, advanced online learning platform\nEfficient exam systems for the assessment and instant result\nEarn UK & internationally recognised accredited qualification\nEasily access the course content on mobile\, tablet\, or desktop from anywhere\, anytime\nExcellent career advancement opportunities\nGet 24/7 student support via email.\n\nWhat Skills Will You Learn from This Course?\n\nRisk Assessment\nRisk Management\n\nWho Should Take this Risk Assessment Skills Training?\nWhether you’re an existing practitioner or an aspiring professional\, this course will enhance your expertise and boost your CV with key skills and a recognised qualification attesting to your knowledge. \nAre There Any Entry Requirements?\nThis Risk Assessment Skills Training is available to all learners of all academic backgrounds. But learners should be aged 16 or over to undertake the qualification. And a good understanding of the English language\, numeracy\, and ICT will be helpful. \nCertificate of Achievement\nAfter completing and passing the Risk Assessment Skills Trainingsuccessfully\, you will be able to obtain an Accredited Certificate of Achievement. Certificates can be obtained either in Hard Copyat £14.99or in PDF formatat £11.99. \nCareer Path\nThis exclusive Risk Assessment Skills Training course will equip you with effective skills and abilities and help you explore career paths such as \n\nRisk Assessor\nSafety Officer\nHR Manager\n\nMeta Description:\nGain essential skills to identify\, evaluate\, and manage workplace risks with our Risk Assessment Skills Training. Learn to create effective risk assessments\, ensure legal compliance\, and promote a safer working environment. \n\nRegister Here
URL:https://www.apexvirtualeducation.com/event/risk-assessment-skills-training/
LOCATION:Online/Virtual
CATEGORIES:Business,Career
ATTACH;FMTTYPE=image/jpeg:https://www.apexvirtualeducation.com/wp-content/uploads/2026/02/Risk-Assessment-Skills-Training.jpg
END:VEVENT
BEGIN:VEVENT
DTSTART;TZID=Europe/London:20260501T170000
DTEND;TZID=Europe/London:20260501T190000
DTSTAMP:20260420T133206
CREATED:20260202T122605Z
LAST-MODIFIED:20260202T122821Z
UID:36961-1777654800-1777662000@www.apexvirtualeducation.com
SUMMARY:Human Thermal Training (May 2026)
DESCRIPTION:Overview\n\n\n\n\n\nThis two-day course is intended for users interested in human thermal modeling.\n\n\n\nThis one-day course is intended for users interested in human thermal modeling. We will walk through our human thermal extension and discuss thermal comfort metrics\, human thermal physiology and regulation modeling\, and several other topics. Questions and discussion are encouraged. Registration for this training will close on Friday May 1\, 2026 at 5:00 PM ET. \n**Note: There must be three registered participants for this course. If three people have not registered by the registration closing\, the course may be canceled ** \n\nRegister Here
URL:https://www.apexvirtualeducation.com/event/human-thermal-training-may-2026/
LOCATION:Online/Virtual
CATEGORIES:Health,science
ATTACH;FMTTYPE=image/jpeg:https://www.apexvirtualeducation.com/wp-content/uploads/2026/02/Human-Thermal-Training-2026.jpg
END:VEVENT
BEGIN:VEVENT
DTSTART;TZID=Europe/London:20260502T140000
DTEND;TZID=Europe/London:20260502T160000
DTSTAMP:20260420T133206
CREATED:20260202T132841Z
LAST-MODIFIED:20260202T132841Z
UID:36976-1777730400-1777737600@www.apexvirtualeducation.com
SUMMARY:Presentation Skill - Professional 1Day Training - Learnerring Meridian\, ID
DESCRIPTION:Overview\n\n\n\n\n\nJoin us for a day of leveling up your presentation skills with Learnerring – it’s time to shine like a pro!\n\n\n\n📍Event Details: \n\nCourse Name: PresentMaster : Presentation Skills Mastery for Professional Success\nLocation:Nearby classroom venue (final address shared via email)\nDelivery Format: In-Person (Virtual sessions available upon request)\nCertificate: Completion Certificate from Learnerring\nLanguage: English\nPDUs: 8 Professional Development Units\nContact: in**@*********ng.com\n\n💡About the Workshop \nIn today’s fast-moving world\, the ability to deliver a clear\, engaging\, and persuasive presentation is essential for every professional. \nPresentMaster™ is a dynamic\, hands-on workshop that helps you speak with confidence\, structure your message\, and captivate any audience—whether you’re presenting in a boardroom\, on Zoom\, or at a public event. \nIdeal for professionals across industries\, this course will strengthen your presence\, polish your delivery\, and help you leave lasting impressions in any setting. \n🎯What You Will Learn \n\nPlan and structure impactful presentations from scratch\nBuild stage presence using tone\, posture\, and body language\nOvercome nerves and speak with confidence\nDesign slides and visuals that support (not distract from) your message\nUse storytelling and audience engagement techniques\nHandle questions and tough feedback with professionalism\n\n📘Course Modules \n🔹Module 1: Foundations of Great Presenting \n\nWhat makes a presentation memorable\nAligning your message with your audience’s needs\n\n🔹Module 2: Structuring Your Presentation \n\nProven frameworks for organizing ideas\nOpenings\, transitions\, closings that stick\n\n🔹Module 3: Voice\, Body Language\, and Stage Presence \n\nPosture\, gestures\, and vocal dynamics\nBuilding credibility through delivery style\n\n🔹Module 4: Overcoming Fear and Nervousness \n\nMindset\, breathing\, and practice strategies\nTurning anxiety into energy\n\n🔹Module 5: Visuals\, Slides\, and Media \n\nBest practices for clean\, effective slide design\nAvoiding “death by PowerPoint”\n\n🔹Module 6: Interaction\, Questions & Audience Engagement \n\nFielding questions confidently\nEncouraging audience participation and feedback\n\n👤Who Should Attend? \n\nBusiness professionals and managers\nEntrepreneurs\, trainers\, and educators\nConsultants and client-facing executives\nAnyone looking to enhance their public speaking and presentation skills\n\n✅Why Choose PresentMaster™ by Learnerring? \n\nReal-world practice with live feedback\nDelivered by experienced facilitators and communication coaches\nIncludes slides\, script templates\, and evaluation forms\nCertificate of Completion from Learnerring\nSuitable for both in-person and online presentations\n\n🏢Corporate or Group Training Available \nLooking to upgrade your team’s communication confidence?We offer PresentMaster™ as a private training session for organizations.📩 Contact: co*******@*********ng.com \n💳Registration Includes: \n\nFull-day interactive workshop\nPrintable presentation planner and toolkit\nCertificate of Completion\nLight refreshments (in-person sessions only)\n\n\nRegister Here 
URL:https://www.apexvirtualeducation.com/event/presentation-skill-professional-1day-training-learnerring-meridian-id/
LOCATION:Online/Virtual
CATEGORIES:Skills and Training
ATTACH;FMTTYPE=image/jpeg:https://www.apexvirtualeducation.com/wp-content/uploads/2026/02/Presentation-Skills-Event.jpg
END:VEVENT
BEGIN:VEVENT
DTSTART;TZID=Europe/London:20260723T063000
DTEND;TZID=Europe/London:20260723T070000
DTSTAMP:20260420T133206
CREATED:20251015T130841Z
LAST-MODIFIED:20251016T055452Z
UID:35012-1784788200-1784790000@www.apexvirtualeducation.com
SUMMARY:AI Governance: Simplifying Compliance with GenAI & IBM watsonx.governance
DESCRIPTION:Discover how leaders embed AI governance to ensure compliance\, ethics & value. Learn key strategies in our expert-led webinar. \n\n\n\n\n\n\n\n\nIn today’s rapidly evolving AI landscape\, ensuring responsible\, compliant\, and transparent use of artificial intelligence is now a board-level priority. Join us for a focused webinar that unpacks how enterprise leaders can embed AI governance frameworks that safeguard their organizations while driving significant business value. \nYou’ll gain valuable insights into the real-world challenges and opportunities of operationalizing AI governance across complex data ecosystems. We will explore how leading organizations are balancing regulatory compliance\, ethical standards\, and business agility\, backed by the Six Principles of AI-Ready Data.Register for the Webinar! \n  \nKey Takeways\n\nEmbedding AI Governance for Business Agility – Learn how to navigate the complexities of AI governance while ensuring regulatory compliance and business growth.\nThe Six Principles of AI-Ready Data – Discover how to build and operationalize a solid data foundation that supports transparent and ethical AI decisions.\nLeveraging IBM Watsonx.governance for Responsible AI – See how platforms like IBM watsonx.governance automate governance processes\, mitigate AI risks\, and accelerate innovation.\n\n\n\n\n\n\n\n\n\n\n\n\n\n\n\n\nRegister Here
URL:https://www.apexvirtualeducation.com/event/ai-governance-simplifying-compliance-with-genai-ibm-watsonx-governance-2/
LOCATION:Online/Virtual
CATEGORIES:Governance|Technology
ATTACH;FMTTYPE=image/jpeg:https://www.apexvirtualeducation.com/wp-content/uploads/2025/10/https___cdn.evbuc_.com_images_1058399003_2381136761683_1_original-e1760249372364-Xrwbqj.jpg
END:VEVENT
END:VCALENDAR